BEGIN:VCALENDAR
VERSION:2.0
PRODID:icalendar-ruby
CALSCALE:GREGORIAN
METHOD:PUBLISH
BEGIN:VEVENT
DTSTAMP:20260422T012454Z
UID:6-598894@unioncityworship.com
DTSTART:20260920T160000Z
DTEND:20260920T170000Z
CLASS:PUBLIC
CREATED:20260421T195041
DESCRIPTION:
LAST-MODIFIED:20260421T195041
LOCATION:Main Sanctuary
SUMMARY:Sunday Morning Worship
URL;VALUE=URI:https://unioncityworship.com/events/sunday-morning-worship/20
 26-09-20
ATTACH;FILENAME=_LLSG__widescreen-WHITE_01a__BASIC.jpg;FMTTYPE=image/jpeg:h
 ttps://dq5pwpg1q8ru0.cloudfront.net/2023/07/16/18/06/31/ba60deb8-87dd-4755
 -bd6d-6f041a1e2e4b/_LLSG__widescreen-WHITE_01a__BASIC.jpg
END:VEVENT
END:VCALENDAR
